BEGIN:VCALENDAR
VERSION:2.0
PRODID:-//Malta University Language School – Learn English in Malta - ECPv6.15.18//NONSGML v1.0//EN
CALSCALE:GREGORIAN
METHOD:PUBLISH
X-WR-CALNAME:Malta University Language School – Learn English in Malta
X-ORIGINAL-URL:https://www.universitylanguageschool.com
X-WR-CALDESC:Events for Malta University Language School – Learn English in Malta
REFRESH-INTERVAL;VALUE=DURATION:PT1H
X-Robots-Tag:noindex
X-PUBLISHED-TTL:PT1H
BEGIN:VTIMEZONE
TZID:Europe/Malta
BEGIN:DAYLIGHT
TZOFFSETFROM:+0100
TZOFFSETTO:+0200
TZNAME:CEST
DTSTART:20200329T010000
END:DAYLIGHT
BEGIN:STANDARD
TZOFFSETFROM:+0200
TZOFFSETTO:+0100
TZNAME:CET
DTSTART:20201025T010000
END:STANDARD
BEGIN:DAYLIGHT
TZOFFSETFROM:+0100
TZOFFSETTO:+0200
TZNAME:CEST
DTSTART:20210328T010000
END:DAYLIGHT
BEGIN:STANDARD
TZOFFSETFROM:+0200
TZOFFSETTO:+0100
TZNAME:CET
DTSTART:20211031T010000
END:STANDARD
BEGIN:DAYLIGHT
TZOFFSETFROM:+0100
TZOFFSETTO:+0200
TZNAME:CEST
DTSTART:20220327T010000
END:DAYLIGHT
BEGIN:STANDARD
TZOFFSETFROM:+0200
TZOFFSETTO:+0100
TZNAME:CET
DTSTART:20221030T010000
END:STANDARD
BEGIN:DAYLIGHT
TZOFFSETFROM:+0100
TZOFFSETTO:+0200
TZNAME:CEST
DTSTART:20230326T010000
END:DAYLIGHT
BEGIN:STANDARD
TZOFFSETFROM:+0200
TZOFFSETTO:+0100
TZNAME:CET
DTSTART:20231029T010000
END:STANDARD
BEGIN:DAYLIGHT
TZOFFSETFROM:+0100
TZOFFSETTO:+0200
TZNAME:CEST
DTSTART:20240331T010000
END:DAYLIGHT
BEGIN:STANDARD
TZOFFSETFROM:+0200
TZOFFSETTO:+0100
TZNAME:CET
DTSTART:20241027T010000
END:STANDARD
END:VTIMEZONE
BEGIN:VEVENT
DTSTART;VALUE=DATE:20210815
DTEND;VALUE=DATE:20230816
DTSTAMP:20260421T184944
CREATED:20210603T103337Z
LAST-MODIFIED:20230809T114819Z
UID:9672-1628985600-1692143999@www.universitylanguageschool.com
SUMMARY:National Holiday - Santa Maria
DESCRIPTION:National Holiday:\nSanta Maria\nThe school and offices will be closed today. \nThe Feast of the Assumption\, also known as the feast of ‘Santa Maria’\, is celebrated every year on the 15th of August and marks the ascent into heaven by the Virgin Mary. This popular Maltese ‘festa’ is the peak of the summer season of religious village feasts and is celebrated in 7 towns and villages: Għaxaq\, Gudja\, Ħ’Attard\, Mosta\, Mqabba and Qrendi in Malta\, and Victoria in Gozo. It is also a public holiday. \nSource; https://www.visitmalta.com/ \n 
URL:https://www.universitylanguageschool.com/event/national-holiday-5/
END:VEVENT
BEGIN:VEVENT
DTSTART;TZID=Europe/Malta:20230813T140000
DTEND;TZID=Europe/Malta:20230820T100000
DTSTAMP:20260421T184944
CREATED:20230522T094220Z
LAST-MODIFIED:20230522T132601Z
UID:10744-1691935200-1692525600@www.universitylanguageschool.com
SUMMARY:English on campus at the University of Malta.  August 13-20\, 2023
DESCRIPTION:  \n  \nLearn with us and enjoy the summer in Malta! \nIncluded in this offer is a General English course that is designed to provide you with the opportunity to practise all the English language skills in a dynamic group environment.  Classes will be held on Monday\, Wednesday\, Thursday and Friday from 08:45 to 12:30. Tuesday\, the 15th of August\, is a national holiday\, and there will be no lessons on that day. This gives you more time to visit one of Malta’s many attractions or spend some time relaxing at the beach. \nThe Summer on Campus package includes: \n\nA General English course -1 week\nWelcome pack\nCoursebook\nRegistration fee\nAn end-of-course certificate that is validated by the University of Malta\nAccommodation at Campus Hub in a twin-room cluster apartment  for 1 week (7 nights)\nFree WIFI at school and at your accommodation\nFree local SIM card\nA ticket to visit Malta’s National Aquarium\n\n \n  \n 
URL:https://www.universitylanguageschool.com/event/english-on-campus-at-the-university-of-malta-2023-august-13-20/
LOCATION:Malta University Language School\, Malta
CATEGORIES:Event
END:VEVENT
END:VCALENDAR